BEGIN:VCALENDAR
VERSION:2.0
PRODID:-//Drupal//Custom iCal//EN
BEGIN:VEVENT
UID:7601abe53fd260b5275ba5be076d3759
DTSTAMP:20260421T130105Z
DTSTART:20220914T150000Z
DTEND:20220914T170000Z
SUMMARY:Reflections on Self and Spirit
LOCATION:Conference Room 1\, Minaretein\, Education City
URL:https://app.micetribe.com/public/workspaces/cis/events/cis-2991/forms/vis
END:VEVENT
END:VCALENDAR