BEGIN:VCALENDAR
VERSION:2.0
PRODID:-//Drupal//Custom iCal//EN
BEGIN:VEVENT
UID:3f48d603840ccc46d8c19a4dbdbcc63a
DTSTAMP:20260426T023728Z
DTSTART:20220810T120000Z
DTEND:20220810T130000Z
SUMMARY:Legal Aspects of the FIFA World Cup Qatar 2022™
LOCATION:Conference Room 1\, Minaretein\, Education City
URL:https://app.micetribe.com/public/workspaces/col/events/cl-2930/forms/att
END:VEVENT
END:VCALENDAR