BEGIN:VCALENDAR
VERSION:2.0
PRODID:-//Drupal//Custom iCal//EN
BEGIN:VEVENT
UID:dd9b2a53df0c65770e04cbb42700e53e
DTSTAMP:20260422T114443Z
DTSTART:20220803T110000Z
DTEND:20220803T123000Z
SUMMARY:Natural Gas and Global Energy Transitions
LOCATION:Webex Events
URL:https://app.micetribe.com/public/workspaces/col/events/cl-2929/forms/vis
END:VEVENT
END:VCALENDAR