BEGIN:VCALENDAR
VERSION:2.0
PRODID:-//Drupal//Custom iCal//EN
BEGIN:VEVENT
UID:7733d9f1190181bbe35b9b2e165fca05
DTSTAMP:20260419T212710Z
DTSTART:20220330T120000Z
DTEND:20220330T130000Z
SUMMARY:The Next Generation Sequencing and Animal Models
LOCATION:Webex Events
URL:https://app.micetribe.com/public/workspaces/chls/events/chls-2692/forms/att
END:VEVENT
END:VCALENDAR