BEGIN:VCALENDAR
VERSION:2.0
PRODID:-//Drupal//Custom iCal//EN
BEGIN:VEVENT
UID:21beccb54e1b63bcb5fcf8e7b2aae214
DTSTAMP:20260424T163210Z
DTSTART:20220315T084500Z
DTEND:20220316T205900Z
SUMMARY:Goethe Exam Information 
LOCATION:
URL:
END:VEVENT
END:VCALENDAR