BEGIN:VCALENDAR
VERSION:2.0
PRODID:-//Drupal//Custom iCal//EN
BEGIN:VEVENT
UID:c2106887f7f847f0a771e627377e88a7
DTSTAMP:20260419T225152Z
DTSTART:20220323T120000Z
DTEND:20220323T130000Z
SUMMARY:Applied Machine Learning at Scale
LOCATION:Webex Events
URL:https://app.micetribe.com/public/workspaces/chls/events/chls-2629/forms/att
END:VEVENT
END:VCALENDAR