BEGIN:VCALENDAR
VERSION:2.0
PRODID:-//Drupal//Custom iCal//EN
BEGIN:VEVENT
UID:7a729b3a7e39f2bf41e1095f0ce7fb67
DTSTAMP:20260419T212654Z
DTSTART:20220309T120000Z
DTEND:20220309T130000Z
SUMMARY:Mechanisms of Vascular Protection and Repair: Insights from the Developing Embryo
LOCATION:Webex Events
URL:https://app.micetribe.com/public/workspaces/chls/events/chls-2593/forms/att
END:VEVENT
END:VCALENDAR