BEGIN:VCALENDAR
VERSION:2.0
PRODID:-//Drupal//Custom iCal//EN
BEGIN:VEVENT
UID:4f718acc317ce4880e8669de788268bd
DTSTAMP:20260419T212803Z
DTSTART:20220223T090000Z
DTEND:20220223T100000Z
SUMMARY:Heart Rate Kinetics for Monitoring Athlete Training Status
LOCATION:Webex Events
URL:https://events.micetribe.com/chls/chls-2504/att
END:VEVENT
END:VCALENDAR