BEGIN:VCALENDAR
VERSION:2.0
PRODID:-//Drupal//Custom iCal//EN
BEGIN:VEVENT
UID:06fd073fab998861277f727c7b8b609f
DTSTAMP:20260419T212654Z
DTSTART:20220202T120000Z
DTEND:20220202T130000Z
SUMMARY:The Story of Soluble Urokinase Receptor (SuPAR) and Kidney Disease
LOCATION:Webex Events
URL:https://app.micetribe.com/public/workspaces/chls/events/chls-2497/forms/att
END:VEVENT
END:VCALENDAR