BEGIN:VCALENDAR
VERSION:2.0
PRODID:-//Drupal//Custom iCal//EN
BEGIN:VEVENT
UID:6703c9525d1a52e6e6a1138f2f6ebe10
DTSTAMP:20260424T183119Z
DTSTART:20220110T130000Z
DTEND:20220131T150000Z
SUMMARY:Shari’a Objectives for Civil Society  
LOCATION:Webex Events
URL:
END:VEVENT
END:VCALENDAR