BEGIN:VCALENDAR
VERSION:2.0
PRODID:-//Drupal//Custom iCal//EN
BEGIN:VEVENT
UID:9708ab6c54d4ff07573c58af13af084c
DTSTAMP:20260419T131840Z
DTSTART:20211124T150000Z
DTEND:20211124T170000Z
SUMMARY:Abū al-Qāsim al-Zahrāwī: Father of Modern Surgery
LOCATION:Webex Events
URL:https://events.micetribe.com/cis/CIS-2162/att
END:VEVENT
END:VCALENDAR