BEGIN:VCALENDAR
VERSION:2.0
PRODID:-//Drupal//Custom iCal//EN
BEGIN:VEVENT
UID:19d8729a96fff852e2d07aeb22ae1331
DTSTAMP:20260420T140615Z
DTSTART:20211110T120000Z
DTEND:20211110T130000Z
SUMMARY:Molecular Mechanism of Phosphodiesterase 5 (PDE5) Regulation
LOCATION:Webex Events
URL:https://app.micetribe.com/public/workspaces/chls/events/chls-2192/forms/att
END:VEVENT
END:VCALENDAR