BEGIN:VCALENDAR
VERSION:2.0
PRODID:-//Drupal//Custom iCal//EN
BEGIN:VEVENT
UID:2cf3c8d9ec40ae10e89557993d642443
DTSTAMP:20260420T182832Z
DTSTART:20211020T150000Z
DTEND:20211020T160000Z
SUMMARY:Book Launch: The Future of the Policy Sciences
LOCATION:Webex Events
URL:https://app.micetribe.com/public/workspaces/cpp/events/cpp-2075/forms/att
END:VEVENT
END:VCALENDAR