BEGIN:VCALENDAR
VERSION:2.0
PRODID:-//Drupal//Custom iCal//EN
BEGIN:VEVENT
UID:32a3ef71e778b32c4e46132e3e2f703d
DTSTAMP:20260423T021449Z
DTSTART:20211009T050000Z
DTEND:20211009T093000Z
SUMMARY:Genetic Variant Interpretation for Common Diseases
LOCATION:Lecture Hall C\, Penrose (LAS Building)
URL:https://app.micetribe.com/public/workspaces/chls/events/chls-2018/forms/att
END:VEVENT
END:VCALENDAR