BEGIN:VCALENDAR
VERSION:2.0
PRODID:-//Drupal//Custom iCal//EN
BEGIN:VEVENT
UID:d5855e4df6f1655816c16d238813b341
DTSTAMP:20260419T133048Z
DTSTART:20211006T110000Z
DTEND:20211006T120000Z
SUMMARY:Topical Issues in Employment Law: Perspectives from Within and Beyond Qatar
LOCATION:Webex Events
URL:https://app.micetribe.com/public/workspaces/col/events/cl-2066/forms/att
END:VEVENT
END:VCALENDAR