BEGIN:VCALENDAR
VERSION:2.0
PRODID:-//Drupal//Custom iCal//EN
BEGIN:VEVENT
UID:40ce7683b81f2560a455948639b0e50b
DTSTAMP:20260421T165351Z
DTSTART:20210602T130000Z
DTEND:20210602T143000Z
SUMMARY:Modern Images of Qatari Women
LOCATION:Webex Events
URL:https://events.micetribe.com/chss/1766/att
END:VEVENT
END:VCALENDAR