BEGIN:VCALENDAR
VERSION:2.0
PRODID:-//Drupal//Custom iCal//EN
BEGIN:VEVENT
UID:d92e830e8296e096868092f2671ee634
DTSTAMP:20260423T152417Z
DTSTART:20210412T110000Z
DTEND:20210512T120000Z
SUMMARY:Design Post-Covid Humanity: Taaruf, Taawun, Tarahum (DPCH-3T)
LOCATION:This event will be held in English via the Zoom platform.
URL:https://events.micetribe.com/cis/983_C/att
END:VEVENT
END:VCALENDAR