BEGIN:VCALENDAR
VERSION:2.0
PRODID:-//Drupal//Custom iCal//EN
BEGIN:VEVENT
UID:c8db3c15899e3256562187adf8d0cbbd
DTSTAMP:20260420T181336Z
DTSTART:20210330T130000Z
DTEND:20210330T150000Z
SUMMARY:The Impact of COVID-19 on Families and Children in the Arab Region
LOCATION:Webex Events
URL:https://app.micetribe.com/public/workspaces/cpp/events/1549/forms/att
END:VEVENT
END:VCALENDAR