BEGIN:VCALENDAR
VERSION:2.0
PRODID:-//Drupal//Custom iCal//EN
BEGIN:VEVENT
UID:ac05975399accd4919e4134d16f27b68
DTSTAMP:20260423T021451Z
DTSTART:20210323T130000Z
DTEND:20210323T150000Z
SUMMARY:Early Detection of Vascular Diseases
LOCATION:Webex Events
URL:https://app.micetribe.com/public/workspaces/chls/events/1493/forms/att
END:VEVENT
END:VCALENDAR