BEGIN:VCALENDAR
VERSION:2.0
PRODID:-//Drupal//Custom iCal//EN
BEGIN:VEVENT
UID:7b592574b526fc6322d4ee54cc341286
DTSTAMP:20260422T171938Z
DTSTART:20210327T150000Z
DTEND:20210327T160000Z
SUMMARY:Andalusian literature and the two-way influence
LOCATION:This event will be held in Arabic\, on the Webex platform.
URL:https://app.micetribe.com/public/workspaces/chss/events/1459/forms/att
END:VEVENT
END:VCALENDAR