BEGIN:VCALENDAR
VERSION:2.0
PRODID:-//Drupal//Custom iCal//EN
BEGIN:VEVENT
UID:a70d6fb8b6bbc5cddbd1028bd0387d2a
DTSTAMP:20260425T164347Z
DTSTART:20170513T053000Z
DTEND:20170513T053000Z
SUMMARY:iBT TOEFL Test
LOCATION:
URL:
END:VEVENT
END:VCALENDAR