BEGIN:VCALENDAR
VERSION:2.0
PRODID:-//Drupal//Custom iCal//EN
BEGIN:VEVENT
UID:4592d98900efda0b21395564be244b63
DTSTAMP:20260424T163742Z
DTSTART:20201018T160000Z
DTEND:20201018T173000Z
SUMMARY:Operations Management in the Age of the Sharing Economy: What Is Old and What Is New?
LOCATION:Webex Events
URL:https://app.contactless.io/public/workspaces/cse/events/979/forms/att
END:VEVENT
END:VCALENDAR