BEGIN:VCALENDAR
VERSION:2.0
PRODID:-//Drupal//Custom iCal//EN
BEGIN:VEVENT
UID:1c8f8ec709b859523e9565479dc4e147
DTSTAMP:20260423T212802Z
DTSTART:20201015T070000Z
DTEND:20201016T130000Z
SUMMARY:International Investment Law and State Capitalism
LOCATION:Zoom
URL:http://tilburguniversity.zoom.us/webinar/register/WN_tGkxncN0Qb-7n_MPMVdvoQ
END:VEVENT
END:VCALENDAR