BEGIN:VCALENDAR
VERSION:2.0
PRODID:-//Drupal//Custom iCal//EN
BEGIN:VEVENT
UID:a1e260cb765cf11aa064a69314cd0710
DTSTAMP:20260423T022536Z
DTSTART:20201017T060000Z
DTEND:20201017T120000Z
SUMMARY:Single-Cell Genomics in Precision Medicine
LOCATION:Webex Events
URL:https://app.contactless.io/public/workspaces/chls/events/973/forms/att
END:VEVENT
END:VCALENDAR