BEGIN:VCALENDAR
VERSION:2.0
PRODID:-//Drupal//Custom iCal//EN
BEGIN:VEVENT
UID:21be4fefdf0095cb002c5502d429d797
DTSTAMP:20260420T182304Z
DTSTART:20200430T070000Z
DTEND:20200430T090000Z
SUMMARY:Meta-Research of COVID-19 Literature
LOCATION:This event will be held online\, in English.
URL:https://www.youtube.com/watch?v=TZFK_QG7Q2U
END:VEVENT
END:VCALENDAR