BEGIN:VCALENDAR
VERSION:2.0
PRODID:-//Drupal//Custom iCal//EN
BEGIN:VEVENT
UID:fc4c642a9b8c6d37847c815661e165aa
DTSTAMP:20260423T155038Z
DTSTART:20191111T063000Z
DTEND:20191111T093000Z
SUMMARY:Is Art Created by AI Really Art?
LOCATION:Auditorium\, Qatar National Library
URL:https://hbku.wufoo.com/forms/sxez86604ydf76/
END:VEVENT
END:VCALENDAR