BEGIN:VCALENDAR
VERSION:2.0
PRODID:-//Drupal//Custom iCal//EN
BEGIN:VEVENT
UID:1e7ef3434360838ad83bda6fd55b54d1
DTSTAMP:20260423T021452Z
DTSTART:20191130T053000Z
DTEND:20191130T143000Z
SUMMARY:Genomics in Clinical Practice
LOCATION:Auditorium\, Minaretein (College of Islamic Studies building)\, Education City
URL:https://hbku.wufoo.com/forms/s1yj2yf309wc8vd/
END:VEVENT
END:VCALENDAR