BEGIN:VCALENDAR
VERSION:2.0
PRODID:-//Drupal//Custom iCal//EN
BEGIN:VEVENT
UID:de13fe9ae0489cb2e91b22aa04e0c8e7
DTSTAMP:20260420T180527Z
DTSTART:20190630T160000Z
DTEND:20190630T160000Z
SUMMARY:Survey: Reuse of Treated Industrial Water and Bio-solids 
LOCATION:
URL:https://www.surveymonkey.com/r/THWX9CY
END:VEVENT
END:VCALENDAR